BEGIN:VCALENDAR
VERSION:2.0
PRODID:-//Frost Institute for Data Science &amp; Computing - ECPv6.15.11//NONSGML v1.0//EN
CALSCALE:GREGORIAN
METHOD:PUBLISH
X-ORIGINAL-URL:https://idsc.miami.edu
X-WR-CALDESC:Events for Frost Institute for Data Science &amp; Computing
REFRESH-INTERVAL;VALUE=DURATION:PT1H
X-Robots-Tag:noindex
X-PUBLISHED-TTL:PT1H
BEGIN:VTIMEZONE
TZID:America/New_York
BEGIN:DAYLIGHT
TZOFFSETFROM:-0500
TZOFFSETTO:-0400
TZNAME:EDT
DTSTART:20200308T070000
END:DAYLIGHT
BEGIN:STANDARD
TZOFFSETFROM:-0400
TZOFFSETTO:-0500
TZNAME:EST
DTSTART:20201101T060000
END:STANDARD
BEGIN:DAYLIGHT
TZOFFSETFROM:-0500
TZOFFSETTO:-0400
TZNAME:EDT
DTSTART:20210314T070000
END:DAYLIGHT
BEGIN:STANDARD
TZOFFSETFROM:-0400
TZOFFSETTO:-0500
TZNAME:EST
DTSTART:20211107T060000
END:STANDARD
BEGIN:DAYLIGHT
TZOFFSETFROM:-0500
TZOFFSETTO:-0400
TZNAME:EDT
DTSTART:20220313T070000
END:DAYLIGHT
BEGIN:STANDARD
TZOFFSETFROM:-0400
TZOFFSETTO:-0500
TZNAME:EST
DTSTART:20221106T060000
END:STANDARD
END:VTIMEZONE
BEGIN:VEVENT
DTSTART;TZID=America/New_York:20210325T090000
DTEND;TZID=America/New_York:20210326T163000
DTSTAMP:20260423T185200
CREATED:20210220T015703Z
LAST-MODIFIED:20230728T182806Z
UID:37101-1616662800-1616776200@idsc.miami.edu
SUMMARY:2-day Scientific Computing with Python Workshop 3/25-26
DESCRIPTION:This 2-day intensive virtual workshop is designed to provide a foundation of basic concepts that all programming depends on\, using the general-purpose programming language\, Python\, as an example. There are no prerequisites and the workshop is designed for computer users from beginners to advanced. \nThursday & Friday\, March 25-26\, 2021 | 9:00 AM – 4:30 PM Course Hours\, Both Days \nREGISTER NOW\nThis is a comprehensive\, hands-on introduction to data analysis using Python that will cover topics including data types\, functions\, conditional statements\, loops\, errors and exceptions and debugging. Basic data management\, version control\, and command line computing are also covered as an introduction to remote high performance computing. \nThe syllabus is available now\, offering preparation instructions.\n9:00 AM – 4:30 PM Course Hours\, Both Days \nInstructors:  Tim Norris\, PhD\, Research Data Scientist |   Cameron Riopelle\, PhD\, Data Services Librarian \n  \nThis event is free and open to UM Faculty\, Staff\, and Students. \n 
URL:https://idsc.miami.edu/idsc-event/scientific-computing-with-python-3-25-26-2021/
LOCATION:Zoom (online)
CATEGORIES:Workshop
ATTACH;FMTTYPE=image/png:https://idsc.miami.edu/wp-content/uploads/2021/02/Featured-Image-Python-730x350-1.png
ORGANIZER;CN="Frost Institute for Data Science and Computing":MAILTO:idsc@miami.edu
END:VEVENT
BEGIN:VEVENT
DTSTART;TZID=America/New_York:20210325T090000
DTEND;TZID=America/New_York:20210326T163000
DTSTAMP:20260423T185200
CREATED:20210304T003846Z
LAST-MODIFIED:20230728T182827Z
UID:37227-1616662800-1616776200@idsc.miami.edu
SUMMARY:2-day Scientific Computing with Python Workshop 3/25-26
DESCRIPTION:This 2-day intensive virtual workshop is designed to provide a foundation of basic concepts that all programming depends on\, using the general-purpose programming language\, Python\, as an example. There are no prerequisites and the workshop is designed for computer users from beginners to advanced. \nThursday & Friday\, March 25-26\, 2021  |  9:00 AM – 4:30 PM Course Hours\, Both Days \nREGISTER NOW\nThis is a comprehensive\, hands-on introduction to data analysis using Python that will cover topics including data types\, functions\, conditional statements\, loops\, errors and exceptions\, and debugging. Basic data management\, version control\, and command-line computing are also covered as an introduction to remote high-performance computing. \n \nAs part of this 2-day workshop\, two guest speakers will join us for a Special Program in Ethics for Scientific Writing and Coding: \n\nJoanna Johnson\, PhD\, Writing Program\, on “Writing and Reproducibility”\nKenneth W. Goodman\, PhD\, Institute for Bioethics and Health Policy\, on “Ethics and Software Standards”\n\n  \nThe syllabus is available now\, offering preparation instructions. \nInstructors:  Tim Norris\, PhD\, Research Data Scientist |   Cameron Riopelle\, PhD\, Data Services Librarian\nHelpers: Thilani Samarakoon\, James Sobczak \n \nThis event is free and open to UM Faculty\, Staff\, and Students. \n 
URL:https://idsc.miami.edu/idsc-event/software-carpentry-with-python-3-25-26-2021/
LOCATION:Zoom (online)
CATEGORIES:Workshop
ATTACH;FMTTYPE=image/png:https://idsc.miami.edu/wp-content/uploads/2021/02/Featured-Image-Python-730x350-1.png
ORGANIZER;CN="Frost Institute for Data Science and Computing":MAILTO:idsc@miami.edu
END:VEVENT
END:VCALENDAR